BEGIN:VCALENDAR
VERSION:2.0
PRODID:-//Bite Back - ECPv6.15.20//NONSGML v1.0//EN
CALSCALE:GREGORIAN
METHOD:PUBLISH
X-WR-CALNAME:Bite Back
X-ORIGINAL-URL:https://biteback.be
X-WR-CALDESC:Events voor Bite Back
REFRESH-INTERVAL;VALUE=DURATION:PT1H
X-Robots-Tag:noindex
X-PUBLISHED-TTL:PT1H
BEGIN:VTIMEZONE
TZID:Europe/Brussels
BEGIN:DAYLIGHT
TZOFFSETFROM:+0100
TZOFFSETTO:+0200
TZNAME:CEST
DTSTART:20250330T010000
END:DAYLIGHT
BEGIN:STANDARD
TZOFFSETFROM:+0200
TZOFFSETTO:+0100
TZNAME:CET
DTSTART:20251026T010000
END:STANDARD
BEGIN:DAYLIGHT
TZOFFSETFROM:+0100
TZOFFSETTO:+0200
TZNAME:CEST
DTSTART:20260329T010000
END:DAYLIGHT
BEGIN:STANDARD
TZOFFSETFROM:+0200
TZOFFSETTO:+0100
TZNAME:CET
DTSTART:20261025T010000
END:STANDARD
BEGIN:DAYLIGHT
TZOFFSETFROM:+0100
TZOFFSETTO:+0200
TZNAME:CEST
DTSTART:20270328T010000
END:DAYLIGHT
BEGIN:STANDARD
TZOFFSETFROM:+0200
TZOFFSETTO:+0100
TZNAME:CET
DTSTART:20271031T010000
END:STANDARD
END:VTIMEZONE
BEGIN:VTIMEZONE
TZID:Europe/Paris
BEGIN:DAYLIGHT
TZOFFSETFROM:+0100
TZOFFSETTO:+0200
TZNAME:CEST
DTSTART:20250330T010000
END:DAYLIGHT
BEGIN:STANDARD
TZOFFSETFROM:+0200
TZOFFSETTO:+0100
TZNAME:CET
DTSTART:20251026T010000
END:STANDARD
BEGIN:DAYLIGHT
TZOFFSETFROM:+0100
TZOFFSETTO:+0200
TZNAME:CEST
DTSTART:20260329T010000
END:DAYLIGHT
BEGIN:STANDARD
TZOFFSETFROM:+0200
TZOFFSETTO:+0100
TZNAME:CET
DTSTART:20261025T010000
END:STANDARD
BEGIN:DAYLIGHT
TZOFFSETFROM:+0100
TZOFFSETTO:+0200
TZNAME:CEST
DTSTART:20270328T010000
END:DAYLIGHT
BEGIN:STANDARD
TZOFFSETFROM:+0200
TZOFFSETTO:+0100
TZNAME:CET
DTSTART:20271031T010000
END:STANDARD
END:VTIMEZONE
BEGIN:VEVENT
DTSTART;TZID=Europe/Brussels:20260502T130000
DTEND;TZID=Europe/Brussels:20260502T170000
DTSTAMP:20260421T072346
CREATED:20260409T135618Z
LAST-MODIFIED:20260409T141615Z
UID:92502-1777726800-1777741200@biteback.be
SUMMARY:Lanceringsactie nieuwe campagne geitenzuivel | protest- en sensibiliseringsactie
DESCRIPTION:Onderstaand een overzicht van aankomende acties\, beurzen of evenementen. Wil je ook graag meedoen? Meld je dan aan als vrijwilliger. 								\n				\n					\n		\n					\n		\n				\n						\n					\n			\n						\n				\n							2 mei 13:00 - 17:00Lanceringsactie nieuwe campagne geitenzuivel | protest- en sensibiliseringsactie9 mei 14:30 - 17:00SAVE THE DATE | Empty The Tanks 202610 mei 10:00 - 11 mei 13:00Moederdagbrunch Groen Geluk | 10.05\n						\n				\n					\n		\n					\n		\n				\n		Dit delen:\n				Delen op Facebook (Wordt in een nieuw venster geopend)\n				Facebook\n			\n				Delen op X (Wordt in een nieuw venster geopend)\n				X
URL:https://biteback.be/events/lanceringsactie-nieuwe-campagne-geitenzuivel-protest-en-sensibiliseringsactie/
LOCATION:Muntplein\, Muntplein\, Brussel\, 1000
CATEGORIES:Bakesale,Infostand,Protest,Sensibilisering
ATTACH;FMTTYPE=image/jpeg:https://biteback.be/wp-content/uploads/2026/04/20260502_Actie_Banner.jpg
END:VEVENT
BEGIN:VEVENT
DTSTART;TZID=Europe/Paris:20260509T143000
DTEND;TZID=Europe/Paris:20260509T170000
DTSTAMP:20260421T072346
CREATED:20260310T125919Z
LAST-MODIFIED:20260310T130047Z
UID:91814-1778337000-1778346000@biteback.be
SUMMARY:SAVE THE DATE | Empty The Tanks 2026
DESCRIPTION:Onderstaand een overzicht van aankomende acties\, beurzen of evenementen. Wil je ook graag meedoen? Meld je dan aan als vrijwilliger. 								\n				\n					\n		\n					\n		\n				\n						\n					\n			\n						\n				\n							2 mei 13:00 - 17:00Lanceringsactie nieuwe campagne geitenzuivel | protest- en sensibiliseringsactie9 mei 14:30 - 17:00SAVE THE DATE | Empty The Tanks 202610 mei 10:00 - 11 mei 13:00Moederdagbrunch Groen Geluk | 10.05\n						\n				\n					\n		\n					\n		\n				\n		Dit delen:\n				Delen op Facebook (Wordt in een nieuw venster geopend)\n				Facebook\n			\n				Delen op X (Wordt in een nieuw venster geopend)\n				X
URL:https://biteback.be/events/save-the-date-empty-the-tanks-2026/
LOCATION:Brugge
CATEGORIES:Protest,Sensibilisering
ATTACH;FMTTYPE=image/png:https://biteback.be/wp-content/uploads/2025/02/Dolfijnen_Carrefour-1.png
END:VEVENT
BEGIN:VEVENT
DTSTART;TZID=Europe/Paris:20260510T100000
DTEND;TZID=Europe/Paris:20260511T130000
DTSTAMP:20260421T072346
CREATED:20260310T131822Z
LAST-MODIFIED:20260331T115330Z
UID:91817-1778407200-1778504400@biteback.be
SUMMARY:Moederdagbrunch Groen Geluk | 10.05
DESCRIPTION:Onderstaand een overzicht van aankomende acties\, beurzen of evenementen. Wil je ook graag meedoen? Meld je dan aan als vrijwilliger. 								\n				\n					\n		\n					\n		\n				\n						\n					\n			\n						\n				\n							2 mei 13:00 - 17:00Lanceringsactie nieuwe campagne geitenzuivel | protest- en sensibiliseringsactie9 mei 14:30 - 17:00SAVE THE DATE | Empty The Tanks 202610 mei 10:00 - 11 mei 13:00Moederdagbrunch Groen Geluk | 10.05\n						\n				\n					\n		\n					\n		\n				\n		Dit delen:\n				Delen op Facebook (Wordt in een nieuw venster geopend)\n				Facebook\n			\n				Delen op X (Wordt in een nieuw venster geopend)\n				X
URL:https://biteback.be/events/moederdagbrunch-groen-geluk-20-04/
LOCATION:Stelplaats\, Diestsepoort 15\, Leuven\, 3000
CATEGORIES:Benefiet
ATTACH;FMTTYPE=image/png:https://biteback.be/wp-content/uploads/2026/03/Schermafbeelding-2026-03-10-141746.png
END:VEVENT
END:VCALENDAR